BEGIN:VCALENDAR
VERSION:2.0
PRODID:-//Toscana Aperta - ECPv6.15.13.1//NONSGML v1.0//EN
CALSCALE:GREGORIAN
METHOD:PUBLISH
X-ORIGINAL-URL:https://www.toscana-aperta.com
X-WR-CALDESC:Events for Toscana Aperta
REFRESH-INTERVAL;VALUE=DURATION:PT1H
X-Robots-Tag:noindex
X-PUBLISHED-TTL:PT1H
BEGIN:VTIMEZONE
TZID:UTC
BEGIN:STANDARD
TZOFFSETFROM:+0000
TZOFFSETTO:+0000
TZNAME:UTC
DTSTART:20230101T000000
END:STANDARD
END:VTIMEZONE
BEGIN:VEVENT
DTSTART;TZID=UTC:20241009T200000
DTEND;TZID=UTC:20241009T213000
DTSTAMP:20260422T165554
CREATED:20240920T094255Z
LAST-MODIFIED:20240920T094255Z
UID:208-1728504000-1728509400@www.toscana-aperta.com
SUMMARY:Assemblea Settimanale / Weekly Assembly in Piazza Shireen Abu Akleh
DESCRIPTION:
URL:https://www.toscana-aperta.com/event/assemblea-settimanale-weekly-assembly-in-piazza-shireen-abu-akleh-2/
LOCATION:Piazza Shireen Abu Akleh\, Piazza San Marco\, Florence\, Italy
END:VEVENT
BEGIN:VEVENT
DTSTART;TZID=UTC:20241009T183000
DTEND;TZID=UTC:20241009T200000
DTSTAMP:20260422T165554
CREATED:20240920T094524Z
LAST-MODIFIED:20240920T094524Z
UID:213-1728498600-1728504000@www.toscana-aperta.com
SUMMARY:Omar Barghouti @ Piazza Shireen Abu Akleh
DESCRIPTION:
URL:https://www.toscana-aperta.com/event/omar-barghouti-piazza-shireen-abu-akleh/
LOCATION:Piazza Shireen Abu Akleh\, Piazza San Marco\, Florence\, Italy
END:VEVENT
BEGIN:VEVENT
DTSTART;VALUE=DATE:20241005
DTEND;VALUE=DATE:20241006
DTSTAMP:20260422T165554
CREATED:20240920T094420Z
LAST-MODIFIED:20240920T094420Z
UID:210-1728086400-1728172799@www.toscana-aperta.com
SUMMARY:Mobilitazione Nazionale X la Palestina @ Roma
DESCRIPTION:
URL:https://www.toscana-aperta.com/event/mobilitazione-nazionale-x-la-palestina-roma/
LOCATION:Roma\, Roma\, Italy
END:VEVENT
BEGIN:VEVENT
DTSTART;TZID=UTC:20241002T183000
DTEND;TZID=UTC:20241002T203000
DTSTAMP:20260422T165554
CREATED:20240920T094214Z
LAST-MODIFIED:20240920T094214Z
UID:206-1727893800-1727901000@www.toscana-aperta.com
SUMMARY:Assemblea Settimanale / Weekly Assembly in Piazza Shireen Abu Akleh
DESCRIPTION:
URL:https://www.toscana-aperta.com/event/assemblea-settimanale-weekly-assembly-in-piazza-shireen-abu-akleh/
LOCATION:Piazza Shireen Abu Akleh\, Piazza San Marco\, Florence\, Italy
END:VEVENT
BEGIN:VEVENT
DTSTART;TZID=UTC:20240925T183000
DTEND;TZID=UTC:20240925T203000
DTSTAMP:20260422T165554
CREATED:20240920T094054Z
LAST-MODIFIED:20240920T094054Z
UID:204-1727289000-1727296200@www.toscana-aperta.com
SUMMARY:Assemblea Settimanale / Weekly Assembly in Piazza Shireen Abu Akleh
DESCRIPTION:
URL:https://www.toscana-aperta.com/event/assemblea/
LOCATION:Piazza Shireen Abu Akleh\, Piazza San Marco\, Florence\, Italy
END:VEVENT
BEGIN:VEVENT
DTSTART;TZID=UTC:20240724T190000
DTEND;TZID=UTC:20240724T210000
DTSTAMP:20260422T165554
CREATED:20240722T130132Z
LAST-MODIFIED:20240724T115025Z
UID:79-1721847600-1721854800@www.toscana-aperta.com
SUMMARY:Public Assembly🇵🇸
DESCRIPTION:
URL:https://www.toscana-aperta.com/event/public-assembly/
LOCATION:Piazza Shireen Abu Akleh\, Piazza San Marco\, Florence\, Italy
END:VEVENT
END:VCALENDAR